BEGIN:VCALENDAR
VERSION:2.0
PRODID:-//Natur • Beewegung • Entwécklung - ECPv5.9.1//NONSGML v1.0//EN
CALSCALE:GREGORIAN
METHOD:PUBLISH
X-WR-CALNAME:Natur • Beewegung • Entwécklung
X-ORIGINAL-URL:https://nbe.lu
X-WR-CALDESC:Events for Natur • Beewegung • Entwécklung
BEGIN:VTIMEZONE
TZID:UTC
BEGIN:STANDARD
TZOFFSETFROM:+0000
TZOFFSETTO:+0000
TZNAME:UTC
DTSTART:20210101T000000
END:STANDARD
END:VTIMEZONE
BEGIN:VEVENT
DTSTART;VALUE=DATE:20210212
DTEND;VALUE=DATE:20210213
DTSTAMP:20211007T100812
CREATED:20210119T104948Z
LAST-MODIFIED:20210119T104948Z
UID:1386-1613088000-1613174399@nbe.lu
SUMMARY:Interne Fortbildung LESC : Kooperation im Team – Teambuilding für pädagogisches Fachpersonal (Code : A-b-32-EF-LESC)
DESCRIPTION:Kontext / Contexte\nEine gute Zusammenarbeit in einem pädagogischen Team ist die Grundlage für ein positives Arbeitsklima und damit auch für einen guten und ausgeglichenen Unterricht. Missverständnisse\, Stress\, Konflikte\, usw. sind oftmals die Konsequenz von fehlender Kommunikation und Vertrauen innerhalb eines (pädagogischen) Teams. Besonders am Anfang der Zusammenarbeit z.B. wenn neue Teams gebildet werden\, wenn neue Teammitglieder hinzu kommen oder bestehende Teams / Institutionen zusammengeführt werden\, ist es umso wichtiger\, dass sich die einzelnen Gruppenmitglieder gegenseitig besser kennen zu lernen\, den nötigen Raum haben die eigene Rolle zu klären und erste Konflikte konstruktiv zu lösen. Ein gemeinsames Teambuilding mit Hilfe von fordernden Kooperationsaufgaben und gemeinsamen Reflektionen kann dabei helfen\, den nötigen Grundstein für eine zukünftige\, konstruktive Zusammenarbeit zu legen. \nZielsetzung / Objectifs\nWissen\nDie Teilnehmer/-innen kennen:\n– die Grundlagen für eine konstruktive Zusammenarbeit\n– die anderen Teammitglieder (Charaktereigenschaften\, Fähigkeiten usw.) besser\n– ihre eigenen Stärken und Schwächen besser. \nFähigkeiten\nDie Teilnehmer/-innen sind in der Lage:\n– sich selbst und ihr Handeln und Auftreten innerhalb des Teams zu reflektieren\n– wertschätzend mit den anderen Teammitgliedern zu kommunizieren. \nHaltung\nDie Teilnehmer/-innen:\n– erkennen die Sinnhaftigkeit konstruktiver Zusammenarbeit\n– respektieren die Meinung ihrer Teammitglieder\n– sind sich der subjektiven Färbung der eigenen Wahrnehmung bewusst. \nInhalt / Contenu\nDie Inhalte sowie angewendeten Methoden variieren je nach den Bedürfnissen und Besonderheiten der Gruppe / des Teams. Grundsätzlich werden jedoch erlebnispädagogische Kooperationsaufgaben sowie Vertrauensaufgaben genutzt\, um teaminterne Prozesse sichtbar\, greifbar und somit veränderbar zu machen. Mit Hilfe von Aktions- und Reflexionsphasen wird den Teilnehmern/-innen genug Raum geboten\, um sich gegenseitig über Feedback auszutauschen und auf eine konstruktive Art und Weise an ihrer Zusammenarbeit zu arbeiten.
URL:https://nbe.lu/event/interne-fortbildung-lesc-kooperation-im-team-teambuilding-fur-padagogisches-fachpersonal-code-a-b-32-ef-lesc/
END:VEVENT
END:VCALENDAR