BEGIN:VCALENDAR
VERSION:2.0
PRODID:-//Natur • Beewegung • Entwécklung - ECPv5.9.1//NONSGML v1.0//EN
CALSCALE:GREGORIAN
METHOD:PUBLISH
X-WR-CALNAME:Natur • Beewegung • Entwécklung
X-ORIGINAL-URL:https://nbe.lu
X-WR-CALDESC:Events for Natur • Beewegung • Entwécklung
BEGIN:VTIMEZONE
TZID:UTC
BEGIN:STANDARD
TZOFFSETFROM:+0000
TZOFFSETTO:+0000
TZNAME:UTC
DTSTART:20210101T000000
END:STANDARD
END:VTIMEZONE
BEGIN:VEVENT
DTSTART;TZID=UTC:20210319T090000
DTEND;TZID=UTC:20210319T150000
DTSTAMP:20211007T101017
CREATED:20210119T110402Z
LAST-MODIFIED:20210119T110507Z
UID:1398-1616144400-1616166000@nbe.lu
SUMMARY:elisabeth forméiert - Einführung in die Erlebnispädagogik anhand von Kooperationsaufgaben (Termin 1)
DESCRIPTION:Beschreibung\n\nIm Rahmen dieser Weiterbildung steht neben einer kurzen theoretischen Einführung in verschiedene Konzepte und Herangehensweisen der Erlebnispädagogik\, vor allem die praxisnahe Selbsterfahrung und Reflexion erlebnispädagogischer Kooperationsaufgaben im Zentrum.\nDer Inhalt der sechsstündigen einführenden Fortbildung setzt sich aus einem kleineren Theorieteil und einem größeren Praxisteil zusammen\, wobei praxisbewährte Kooperationsaufgaben ohne großen  Materialaufwand selbst erfahren werden können. Im Anschluss an die jeweilige Kooperationsaufgabe erfolgt eine Reflexion über das Geschehene und das eigene Verhalten in der Gruppe. Dabei wird versucht einen Transfer in die eigene pädagogische Praxis zu unterstützen. \n\n\n\n\nZiele\n\n\nHistorische Hintergründe zu Entstehung der Erlebnispädagogik (Kurt Hahn\, Rousseau) kennen lernen\nGrundlegende (Wirkungs-)Modelle der Erlebnispädagogik (u.a. E-Kette\, Lernzonenmodell nach\nSenninger) kennen lernen\neine Basis an Kooperationsaufgaben für die eigene Praxis schaffen\ndie Bedeutung von Reflexion und Transfer in der Erlebnispädagogik verstehen\neinzelne Kooperationsaufgaben besser einschätzen können und mögliche Einsatzbereiche\ndifferenzieren lernen\n\n\n\n\nMethoden\n\n\nGegenseitiger Austausch durch Feedback und Reflexion in der Gruppe\nErleben und Ausprobieren in der Gruppe\nDiskussion im Plenum über Einsatzmöglichkeiten im pädagogischen Alltag und etwaige\nVariationsmöglichkeiten
URL:https://nbe.lu/event/elisabeth-formeiert-termin-1-einfuhrung-in-die-erlebnispadagogik-anhand-von-kooperationsaufgaben/
LOCATION:Luxemburg Stadt
END:VEVENT
END:VCALENDAR