BEGIN:VCALENDAR
VERSION:2.0
PRODID:-//Natur • Beewegung • Entwécklung - ECPv5.4.0.1//NONSGML v1.0//EN
CALSCALE:GREGORIAN
METHOD:PUBLISH
X-WR-CALNAME:Natur • Beewegung • Entwécklung
X-ORIGINAL-URL:https://nbe.lu
X-WR-CALDESC:Events for Natur • Beewegung • Entwécklung
BEGIN:VTIMEZONE
TZID:UTC
BEGIN:STANDARD
TZOFFSETFROM:+0000
TZOFFSETTO:+0000
TZNAME:UTC
DTSTART:20210101T000000
END:STANDARD
END:VTIMEZONE
BEGIN:VEVENT
DTSTART;TZID=UTC:20210420T090000
DTEND;TZID=UTC:20210420T170000
DTSTAMP:20210420T173047
CREATED:20210119T110836Z
LAST-MODIFIED:20210119T110836Z
UID:1404-1618909200-1618938000@nbe.lu
SUMMARY:elisabeth forméiert - Hören\, Sehen\, Fühlen und Riechen – Erfahrungsraum „Wald“ (Termin 1)
DESCRIPTION:INHALT\nDie Waldpädagogik erkennt den Wald als pädagogisch wertvollen Erfahrungsraum an und versucht den Teilnehmer*innen\, mit der Hilfe von ganzheitlichen Lehr- und Lernmethoden\, die ökologischen und gesellschaftlichen Zusammenhänge des Waldes näher zu bringen. Dadurch sollen die Teilnehmer*innen nicht nur positive Lernerfahrungen machen\, sondern auch für einen umweltbewussten Umgang mit der Natur sensibilisiert werden. Ganz nach dem Motto: „Im Wald vom Wald lernen”. \nDer thematische Schwerpunkt dieser Fortbildung liegt auf der sinnlichen Erschließung des Lebensraums „Wald” mit all seinen Facetten. Anhand spielerischer und kreativer Aktivitäten\, in Verbindung mit den Sinnen Hören\, Fühlen\, Riechen und Sehen\, lassen sich für Kinder jeglichen Alters interessante Einheiten gestalten. So lassen sich unter anderem die Wahrnehmungsfähigkeit\, das Körperbewusstsein und die Kreativität der Kinder in einem natürlichen Setting fördern. \nZIELE\n\nWaldpädagogische Spiele und Aktivitäten praktisch erfahren.\nDen eigenen Methodenpool erweitern.\nModellhaften Aufbau einer waldpädagogischen Einheit kennen lernen.\n\nMETHODE\n\nErleben und Ausprobieren in Groß- und Kleingruppen.\nGegenseitiger Austausch und Reflexion in der Gruppe.\nAnalyse der kennengerlernten Spiele und Aktivitäten auf der Meta-Ebene.\n\n  \nWEITERE INFORMATIONEN\n  \nInklusive Mittagessen. Wir bitten Sie\, sich für die kleinen Pausen selber zu versorgen; ein Getränkeautomat steht vor Ort zur Verfügung. \nBitte tragen Sie dem Wetter angepasste Kleidung (festes Schuhwerk!)
URL:https://nbe.lu/event/elisabeth-formeiert-horen-sehen-fuhlen-und-riechen-erfahrungsraum-wald-termin-1/
END:VEVENT
END:VCALENDAR