BEGIN:VCALENDAR
VERSION:2.0
PRODID:-//Natur • Beewegung • Entwécklung - ECPv5.9.1//NONSGML v1.0//EN
CALSCALE:GREGORIAN
METHOD:PUBLISH
X-WR-CALNAME:Natur • Beewegung • Entwécklung
X-ORIGINAL-URL:https://nbe.lu
X-WR-CALDESC:Events for Natur • Beewegung • Entwécklung
BEGIN:VTIMEZONE
TZID:UTC
BEGIN:STANDARD
TZOFFSETFROM:+0000
TZOFFSETTO:+0000
TZNAME:UTC
DTSTART:20200101T000000
END:STANDARD
END:VTIMEZONE
BEGIN:VEVENT
DTSTART;TZID=UTC:20201112T090000
DTEND;TZID=UTC:20201112T150000
DTSTAMP:20211007T100425
CREATED:20200916T135448Z
LAST-MODIFIED:20200916T135448Z
UID:1240-1605171600-1605193200@nbe.lu
SUMMARY:Einführung in die Erlebnispädagogik anhand von Kooperationsaufgaben (FEDAS FC 20179)
DESCRIPTION:INHALT\n  \nIm Rahmen dieser Weiterbildung steht neben einer kurzen theoretischen Einführung in verschiedene Konzepte und Herangehensweisen der Erlebnispädagogik\, vor allem die praxisnahe Selbsterfahrung und Reflexion erlebnispädagogischer Kooperationsaufgaben im Zentrum. \nDer Inhalt der sechsstündigen\, einführenden Fortbildung setzt sich aus einem kleineren Theorieteil und einem größeren Praxisteil zusammen\, wobei praxisbewährte Kooperationsaufgaben ohne großen Materialaufwand selbst erfahren werden können. Im Anschluss an die jeweilige Kooperationsaufgabe erfolgt eine Reflexion über das Geschehene und das eigene Verhalten in der Gruppe. Dabei wird versucht einen Transfer in die eigene pädagogische Praxis zu unterstützen. \n  \nZIELE\n  \n\nHistorische Hintergründe zu Entstehung der Erlebnispädagogik (Kurt Hahn\, Rousseau) kennen lernen\nGrundlegende Modelle der Erlebnispädagogik (u.a. E-Kette\, Lernzonenmodell nach Senninger) kennenlernen\neine Basis an Kooperationsaufgaben für die eigene Praxis schaffen\ndie Bedeutung von Reflexion und Transfer in der Erlebnispädagogik verstehen\neinzelne Kooperationsaufgaben besser einschätzen können und mögliche Einsatzbereiche unterscheiden lernen \n\n  \nMETHODE\n  \n\nGegenseitiger Austausch durch Feedback und Reflexion in der Gruppe\nErleben und Ausprobieren in der Gruppe\nDiskussion im Plenum über Einsatzmöglichkeiten im pädagogischen Alltag und etwaige Variationsmöglichkeiten\n\n  \n  \nWEITERE INFORMATIONEN\n  \nBitte  bringen Sie dem Wetter angepasste Kleidung mit. Da diese Veranstaltung ohne Pausenbewirtung stattfinden wird\, versorgen Sie sich bitte selber\, indem Sie sich zu essen mitbringen. Warme und kalte Getränke stehen in Automaten zur Verfügung. \nEine Validation ist angefragt. \n 
URL:https://nbe.lu/event/einfuhrung-in-die-erlebnispadagogik-anhand-von-kooperationsaufgaben-fedas-fc-20179/
LOCATION:Centre écologique et touristique “Parc Housen”
END:VEVENT
END:VCALENDAR