BEGIN:VCALENDAR
VERSION:2.0
PRODID:-//Natur • Beewegung • Entwécklung - ECPv5.9.1//NONSGML v1.0//EN
CALSCALE:GREGORIAN
METHOD:PUBLISH
X-WR-CALNAME:Natur • Beewegung • Entwécklung
X-ORIGINAL-URL:https://nbe.lu
X-WR-CALDESC:Events for Natur • Beewegung • Entwécklung
BEGIN:VTIMEZONE
TZID:UTC
BEGIN:STANDARD
TZOFFSETFROM:+0000
TZOFFSETTO:+0000
TZNAME:UTC
DTSTART:20210101T000000
END:STANDARD
END:VTIMEZONE
BEGIN:VEVENT
DTSTART;TZID=UTC:20210202T023000
DTEND;TZID=UTC:20210202T170000
DTSTAMP:20211007T100713
CREATED:20210119T104021Z
LAST-MODIFIED:20210119T104021Z
UID:1379-1612233000-1612285200@nbe.lu
SUMMARY:Blended Learning: Wanderungen planen und deren pädagogische Potentiale nutzen (Code : D2-e-26)
DESCRIPTION:Für genaue Datumsangaben siehe Internetseite des IFEN! \nKontext / Contexte\nDas pädagogische Potential des Wanderns bzw. des Unterwegsseins zu Fuß (mit oder ohne viel Gepäck) wird oftmals unterschätzt. Tatsächlich bietet das Wandern etliche Möglichkeiten\, um verschiedene Thematiken des Schulunterrichts aufzugreifen und hautnah erlebbar zu machen. Durch seine geographische Diversität bietet Luxemburg etliche Möglichkeiten\, um interessante Wanderungen durchzuführen\, welche in der Form von Ausflügen in den Schulalltag integriert werden können. \nAllerdings fehlt es einem Großteil an pädagogischem Fachpersonal an dem nötigen Wissen\, um eine passende Wanderung zu planen und durchzuführen\, weshalb oftmals auf klassische Städtebesuche in Verbindung mit längeren Busfahrten oder sogar Flügen zurückgegriffen wird. Dies ist nicht nur ökologisch gesehen nicht immer ideal\, sondern führt auch dazu\, dass vielen Schüler*innen das Wissen über die eigene Umgebung bzw. das eigene Land verloren geht. \nDie vorliegende Weiterbildung beschäftigt sich mit der Planung\, Vorbereitung und Umsetzung von Wanderungen und deren pädagogischen Potentialen. Viele der gezeigten Inhalte und Vermittlungsmethoden können in die eigene pädagogische Praxis z.B. in den Geographie-Unterricht aufgenommen werden. \nZielsetzung / Objectifs\nWissen\nDie Teilnehmer/-innen kennen:\n– die theoretischen Grundlagen der Orientierung mit Karte und Kompass\n– die Grundlagen der Routenplanung\n– physiologische\, sportliche und gesundheitliche Aspekte des Wanderns\n– Grundlagen der Vorbereitung bezüglich Sicherheit und Notfallmanagement\n– pädagogische Potentiale des Wanderns und Grundlagen der Abenteuerpädagogik. \nFähigkeiten\nDie Teilnehmer/-innen sind in der Lage:\n– selbstständig ein- bis zweitägige Wanderungen mit Schüler/innen zu planen\n– eine Karte richtig zu lesen und geographische Informationen über das Gelände zu gewinnen\n– eine Route inkl. Gehzeit mit Hilfe von Geoportail (oder einer analogen Karte) zu planen\n– die körperlichen und psychischen Belastungen für die Schüler/innen während einer Wanderung besser einschätzen zu können\n– das Risiko für Verletzungen und sonstige Vorkommnisse während einer Wanderung aufgrund adäquater Vorbereitung zu minimieren\n– die pädagogischen Potentiale des Wanderns zu erkennen und für ihren Schulalltag fruchtbar zu nutzen. \nHaltung\nDie Teilnehmer/-innen:\n– erkennen die Sinnhaftigkeit und Potentiale von Wanderungen im pädagogischen Bereich\n– erkennen die Notwendigkeit lokaler pädagogischer Projekte\n– unterstützen die Schüler*innen in ihrer Entwicklung von Selbstverantwortung und Autonomie. \nInhalt / Contenu\nDas Webinar verteilt sich über mehrere Module à 2\,5 Stunden und ist\, abhängig vom jeweiligen Unterthema\, möglichst interaktiv gestaltet. Neben den einzelnen Theorieinputs können die Teilnehmer*innen anhand von kleineren Übungen das vermittelte Wissen anwenden. Zwischen den einzelnen Modulen bekommen die Teilnehmer*innen zum Teil kleinere Arbeitsaufträge\, welche der selbstständigen Vertiefung und Anwendung der Modulinhalte dienen soll. \nDie Module sind wie folgt aufgebaut:\n– Umgang mit Karte und Kompass\n– Routen planen\n– Körper und Sicherheit\n– Abenteuerpädagogik und pädagogische Aspekte des Wanderns. \nDas Praxismodul von 3 Stunden dient zur Umsetzung und Vertiefung der theoretischen Inhalte des E-Learnings. Außerdem steht das Erlernen von Orientierungstechniken mit Karte und Kompass im Fokus\, welche seitens der Teilnehmer*innen wiederum in die eigene pädagogische Praxis mit aufgenommen werden können. \nArbeitsformen / Approche méthodologique\n– E-Learning anhand von Videokonferenzen mit begleitender Powerpoint\n– Interaktive Vermittlung der Lerninhalte anhand von Arbeitsblättern\n– Selbstständige Vertiefung anhand von Arbeitsaufträgen zwischen den Modulen.\n– Praktische Vertiefung im Gelände anhand von Einzel- und Paarübungen
URL:https://nbe.lu/event/blended-learning-wanderungen-planen-und-deren-padagogische-potentiale-nutzen-code-d2-e-26/
END:VEVENT
END:VCALENDAR