BEGIN:VCALENDAR
VERSION:2.0
PRODID:-//Natur • Beewegung • Entwécklung - ECPv5.9.1//NONSGML v1.0//EN
CALSCALE:GREGORIAN
METHOD:PUBLISH
X-WR-CALNAME:Natur • Beewegung • Entwécklung
X-ORIGINAL-URL:https://nbe.lu
X-WR-CALDESC:Events for Natur • Beewegung • Entwécklung
BEGIN:VTIMEZONE
TZID:UTC
BEGIN:STANDARD
TZOFFSETFROM:+0000
TZOFFSETTO:+0000
TZNAME:UTC
DTSTART:20210101T000000
END:STANDARD
END:VTIMEZONE
BEGIN:VEVENT
DTSTART;TZID=UTC:20210123T090000
DTEND;TZID=UTC:20210123T120000
DTSTAMP:20211007T100531
CREATED:20210119T112743Z
LAST-MODIFIED:20210119T112743Z
UID:1418-1611392400-1611403200@nbe.lu
SUMMARY:2. Outdoor Netzwierk Dag zu Lëtzebuerg (online)
DESCRIPTION:Gudde Moie léiwen Outdoormënsch\, \n\n\n\n\nnodeems den 1. Outdoor-Netzwierk-Dag am Februar 2020 mat ronn 30 Participanten ee groussen Erfolleg war an de Covid-19 eis leider ee Stréch duerch d’Rechnung gemaach huet\, si mir frou\, endlech een Datum fir een 2. OND annoncéieren ze kënnen. \n23. Januar 2021\, ca. 9-12 Auer \nDen Outdoor Netzwierk Dag riicht sech un all Persoun\, déi gäre mat Mënschen dobaussen an der Natur schafft. Egal op Coach\, Fräiberuffler*in\, Pedagog*in\, Therapeut*in\, Léierpersoun\, Kënschtler*in oder aner*en  Acteur*rice aus der formaler oder non-formaler Bildung. Den OND soll eng Plattform si fir sech auszetauschen a flott nei Kontakter ze schléissen. Och Themen aus dem éischten OND wäerten nees um Programm stoen\, bzw. verdéiwt ginn. \nDen OND fënd opgrond vun de Covid-19 Restriktiounen digital via Zoom statt. Méi Informatiounen inkl. Oflaf krëss du an enger Confirmatiouns-Mail. \nThemen: \n\nRéckbléck 2020 & Austausch iwwer Erfarungen am Ëmgang mam Covid-19 (Hürden & Chancen)\nAustausch iwwer eng Grënnung vun engem Verband\, respektiv enger A.s.b.l.\nAusbléck 2021 – nächste gemeinsamen Outdoor Netzwierkdag\n\nUmeldung w.e.g. mam Numm (bzw. de Nimm)\, der Institutioun/Organisatioun an der Unzuel u Leit un OND@NBE.LU bis den 21.01.2020.
URL:https://nbe.lu/event/2-outdoor-netzwierk-dag-zu-letzebuerg-online/
LOCATION:Online
CATEGORIES:Networking
END:VEVENT
END:VCALENDAR