BEGIN:VCALENDAR
VERSION:2.0
PRODID:-//Natur • Beewegung • Entwécklung - ECPv5.9.1//NONSGML v1.0//EN
CALSCALE:GREGORIAN
METHOD:PUBLISH
X-WR-CALNAME:Natur • Beewegung • Entwécklung
X-ORIGINAL-URL:https://nbe.lu
X-WR-CALDESC:Events for Natur • Beewegung • Entwécklung
BEGIN:VTIMEZONE
TZID:UTC
BEGIN:STANDARD
TZOFFSETFROM:+0000
TZOFFSETTO:+0000
TZNAME:UTC
DTSTART:20200101T000000
END:STANDARD
END:VTIMEZONE
BEGIN:VEVENT
DTSTART;TZID=UTC:20200229T090000
DTEND;TZID=UTC:20200229T130000
DTSTAMP:20211007T101706
CREATED:20191124T095659Z
LAST-MODIFIED:20191124T095818Z
UID:1004-1582966800-1582981200@nbe.lu
SUMMARY:1. Netzwierkdag - Outdoor Beräich Lëtzebuerg
DESCRIPTION:SAVE THE DATE: \nD’FREAC a.s.b.l. an Natur · Beweegung · Entwécklung lueden häerzlech zum  an. Egal op Outdoor Coaching\, Erliefnespedagogik\, Wildnispedagogik\, Bëschpedagogik\, Outdoor Sportaktivitéiten\, Emweltpedagogik etc.\, jiddwereen ass wëllkomm. Déi eenzeg Viraussetzung ass\, dat ee a sengem Alldag am Outdoor Beräich schafft oder an Zukunft wëlles huet dat ze maachen. \nAm Fokus steet ee géigesäitegt kenne léieren\, eng Virstellung vum eegenen Aarbechtsberäich a Visiounen zur Weiderentwécklung vum Outdoor Beräich zu Lëtzebuerg. \nDe Programm mat konkreten Zäite kënnt no! \nMir freeën eis op Iech an är Iddien 🙂 \nNBE & FREAC a.s.b.l \nLink zur Facebook Veranstaltung: https://www.facebook.com/events/461272284520958/
URL:https://nbe.lu/event/1-netzwierkdag-outdoor-beraich-letzebuerg/
LOCATION:Centre de Jeunesse Larochette\, Rue Osterbour\, Larochette\, 7622\, Luxembourg
CATEGORIES:Networking
ATTACH;FMTTYPE=image/jpeg:https://nbe.lu/wp-content/uploads/2019/11/69813062_2465244070355531_6887599170081783808_o.jpg
END:VEVENT
END:VCALENDAR